BEGIN:VCALENDAR
VERSION:2.0
PRODID:-//NABU Salzlandkreis - ECPv6.15.20//NONSGML v1.0//EN
CALSCALE:GREGORIAN
METHOD:PUBLISH
X-ORIGINAL-URL:https://nabu-salzlandkreis.de
X-WR-CALDESC:Veranstaltungen für NABU Salzlandkreis
REFRESH-INTERVAL;VALUE=DURATION:PT1H
X-Robots-Tag:noindex
X-PUBLISHED-TTL:PT1H
BEGIN:VTIMEZONE
TZID:Europe/Berlin
BEGIN:DAYLIGHT
TZOFFSETFROM:+0100
TZOFFSETTO:+0200
TZNAME:CEST
DTSTART:20240331T010000
END:DAYLIGHT
BEGIN:STANDARD
TZOFFSETFROM:+0200
TZOFFSETTO:+0100
TZNAME:CET
DTSTART:20241027T010000
END:STANDARD
BEGIN:DAYLIGHT
TZOFFSETFROM:+0100
TZOFFSETTO:+0200
TZNAME:CEST
DTSTART:20250330T010000
END:DAYLIGHT
BEGIN:STANDARD
TZOFFSETFROM:+0200
TZOFFSETTO:+0100
TZNAME:CET
DTSTART:20251026T010000
END:STANDARD
BEGIN:DAYLIGHT
TZOFFSETFROM:+0100
TZOFFSETTO:+0200
TZNAME:CEST
DTSTART:20260329T010000
END:DAYLIGHT
BEGIN:STANDARD
TZOFFSETFROM:+0200
TZOFFSETTO:+0100
TZNAME:CET
DTSTART:20261025T010000
END:STANDARD
END:VTIMEZONE
BEGIN:VEVENT
DTSTART;TZID=Europe/Berlin:20250507T160000
DTEND;TZID=Europe/Berlin:20250507T200000
DTSTAMP:20260422T124125
CREATED:20250407T095416Z
LAST-MODIFIED:20250430T141406Z
UID:743-1746633600-1746648000@nabu-salzlandkreis.de
SUMMARY:Ornithologische Abendexkursion im Colbitzer Lindenwald
DESCRIPTION:Zur Vernetzung der NABU-Gruppen hat uns derer NABU Magdeburg am Mittwoch\, den 7. Mai 2025 herzlich zu einer ornithologischen Abendexkursion in den Colbitzer Lindenwald eingeladen. Start ist um 16 Uhr – gemeinsam entdecken wir die vielfältige Vogelwelt des Lindenwaldes in den Abendstunden. \nIm Anschluss sind alle Teilnehmenden zu einem gemütlichen Grillabend auf dem Museumshof in Colbitz bei Herbert Bilang eingeladen\, einem langjährigen Mitglied des NABU Magdeburg und passioniertem Eulen-Fachexperten. Neben dem persönlichen Austausch und geselligem Beisammensein gibt es die Möglichkeit\, sich zu vernetzen und mehr über aktuelle Projekte zu erfahren – unter anderem stellt der magdeburger NABU den Brutmonitor vor\, ein Bürgerforschungsprojekt zur systematischen Erfassung der Brutvögel in Deutschland: www.brutmonitor.de \nTreffpunkt für die Exkursion:\nRabensohl 1\, an der Waldgaststätte „Rabensohl“ – ein einzeln stehendes Gebäude am Waldrand. \nFahrgemeinschaften:\nAb 15 Uhr starten Fahrgemeinschaften am Naturkundemuseum in Magdeburg. Wer mitfahren oder selbst fahren kann\, gibt das bitte bei der Anmeldung an. \nWichtig für Teilnehmende aus dem Salzlandkreis:\nFür eine bessere Planung von Verpflegung und Anreise bitten wir um Rückmeldung zur Teilnahme bis zum 30. April 2025 an den NABU Salzlandkreis (per Mail oder Kontaktformular). \nWir freuen uns auf spannende Beobachtungen\, gute Gespräche und einen inspirierenden Abend im Grünen!
URL:https://nabu-salzlandkreis.de/veranstaltung/ornithologische-abendexkursion-im-colbitzer-lindenwald/
LOCATION:Rabensol Colbitz\, Rabensol\, Colbitz\, 39326\, Germany
END:VEVENT
END:VCALENDAR