BEGIN:VCALENDAR
VERSION:2.0
PRODID:-//NABU Salzlandkreis - ECPv6.15.20//NONSGML v1.0//EN
CALSCALE:GREGORIAN
METHOD:PUBLISH
X-ORIGINAL-URL:https://nabu-salzlandkreis.de
X-WR-CALDESC:Veranstaltungen für NABU Salzlandkreis
REFRESH-INTERVAL;VALUE=DURATION:PT1H
X-Robots-Tag:noindex
X-PUBLISHED-TTL:PT1H
BEGIN:VTIMEZONE
TZID:Europe/Berlin
BEGIN:DAYLIGHT
TZOFFSETFROM:+0100
TZOFFSETTO:+0200
TZNAME:CEST
DTSTART:20240331T010000
END:DAYLIGHT
BEGIN:STANDARD
TZOFFSETFROM:+0200
TZOFFSETTO:+0100
TZNAME:CET
DTSTART:20241027T010000
END:STANDARD
BEGIN:DAYLIGHT
TZOFFSETFROM:+0100
TZOFFSETTO:+0200
TZNAME:CEST
DTSTART:20250330T010000
END:DAYLIGHT
BEGIN:STANDARD
TZOFFSETFROM:+0200
TZOFFSETTO:+0100
TZNAME:CET
DTSTART:20251026T010000
END:STANDARD
BEGIN:DAYLIGHT
TZOFFSETFROM:+0100
TZOFFSETTO:+0200
TZNAME:CEST
DTSTART:20260329T010000
END:DAYLIGHT
BEGIN:STANDARD
TZOFFSETFROM:+0200
TZOFFSETTO:+0100
TZNAME:CET
DTSTART:20261025T010000
END:STANDARD
END:VTIMEZONE
BEGIN:VEVENT
DTSTART;TZID=Europe/Berlin:20250511T100000
DTEND;TZID=Europe/Berlin:20250511T110000
DTSTAMP:20260422T124701
CREATED:20250507T082247Z
LAST-MODIFIED:20250507T082247Z
UID:760-1746957600-1746961200@nabu-salzlandkreis.de
SUMMARY:Stunde der Gartenvögel
DESCRIPTION:Am Sonntag\, den 11. Mai 2025\, möchten wir vom NABU Salzlandkreis gemeinsam mit Euch an der bundesweiten Aktion „Stunde der Gartenvögel“ teilnehmen. Dafür treffen wir uns um 10 Uhr in unserer Nachtigallenoase in Schönebeck – einem besonderen Ort für Naturbeobachtungen mitten in der Stadt. \nZusammen mit dem Ornithologen Michael Wunschik zählen und bestimmen wir die Vogelarten\, die sich in diesem geschützten Lebensraum aufhalten. Dabei lernt Ihr nicht nur unsere heimischen Gartenvögel besser kennen\, sondern unterstützt auch ein wichtiges Bürgerforschungsprojekt zum Schutz der Artenvielfalt. \nDie „Stunde der Gartenvögel“ ist die größte Vogelzählung Deutschlands. Jedes Jahr ruft der NABU Menschen in ganz Deutschland dazu auf\, eine Stunde lang die Vögel in ihrer Umgebung zu zählen – sei es im eigenen Garten\, im Park oder auf einem Naturgrundstück wie unserer Oase. Die gesammelten Daten helfen dabei\, Veränderungen in den Beständen zu erkennen und den Vogelschutz gezielt voranzubringen. \nEgal ob Ihr Profis oder Neulinge seid – jede Beobachtung zählt!Kommt einfach vorbei\, bringt gern ein Fernglas oder ein Bestimmungsbuch mit\, und entdeckt mit uns die gefiederten Bewohner unserer Region. \nWir freuen uns auf einen spannenden Vormittag mit Euch in der Natur!
URL:https://nabu-salzlandkreis.de/veranstaltung/stunde-der-gartenvoegel/
LOCATION:Nachtigallenoase\, Chauseestr. 39\, Schönebeck\, 39218\, Germany
END:VEVENT
END:VCALENDAR