BEGIN:VCALENDAR
VERSION:2.0
PRODID:-//NABU Salzlandkreis - ECPv6.15.20//NONSGML v1.0//EN
CALSCALE:GREGORIAN
METHOD:PUBLISH
X-WR-CALNAME:NABU Salzlandkreis
X-ORIGINAL-URL:https://nabu-salzlandkreis.de
X-WR-CALDESC:Veranstaltungen für NABU Salzlandkreis
REFRESH-INTERVAL;VALUE=DURATION:PT1H
X-Robots-Tag:noindex
X-PUBLISHED-TTL:PT1H
BEGIN:VTIMEZONE
TZID:Europe/Berlin
BEGIN:DAYLIGHT
TZOFFSETFROM:+0100
TZOFFSETTO:+0200
TZNAME:CEST
DTSTART:20240331T010000
END:DAYLIGHT
BEGIN:STANDARD
TZOFFSETFROM:+0200
TZOFFSETTO:+0100
TZNAME:CET
DTSTART:20241027T010000
END:STANDARD
BEGIN:DAYLIGHT
TZOFFSETFROM:+0100
TZOFFSETTO:+0200
TZNAME:CEST
DTSTART:20250330T010000
END:DAYLIGHT
BEGIN:STANDARD
TZOFFSETFROM:+0200
TZOFFSETTO:+0100
TZNAME:CET
DTSTART:20251026T010000
END:STANDARD
BEGIN:DAYLIGHT
TZOFFSETFROM:+0100
TZOFFSETTO:+0200
TZNAME:CEST
DTSTART:20260329T010000
END:DAYLIGHT
BEGIN:STANDARD
TZOFFSETFROM:+0200
TZOFFSETTO:+0100
TZNAME:CET
DTSTART:20261025T010000
END:STANDARD
BEGIN:DAYLIGHT
TZOFFSETFROM:+0100
TZOFFSETTO:+0200
TZNAME:CEST
DTSTART:20270328T010000
END:DAYLIGHT
BEGIN:STANDARD
TZOFFSETFROM:+0200
TZOFFSETTO:+0100
TZNAME:CET
DTSTART:20271031T010000
END:STANDARD
END:VTIMEZONE
BEGIN:VEVENT
DTSTART;TZID=Europe/Berlin:20260110T100000
DTEND;TZID=Europe/Berlin:20260110T100000
DTSTAMP:20260421T184821
CREATED:20260105T112459Z
LAST-MODIFIED:20260105T112459Z
UID:776-1768039200-1768039200@nabu-salzlandkreis.de
SUMMARY:Stunde der Wintervögel
DESCRIPTION:Der NABU Salzlandkreis lädt am 10. Januar 2026 um 10.00 Uhr zur Stunde der Wintervögel in die Nachtigallenoase Schönebeck ein. Eine Stunde lang werden gemeinsam heimische Wintervögel beobachtet und gezählt. Mitmachen können alle – Vorkenntnisse sind nicht erforderlich. Die Aktion ist Teil einer bundesweiten Vogelzählung und liefert wichtige Daten für den Schutz unserer Vogelwelt. Ferngläser bitte selbst mitbringen\, die Teilnahme ist kostenfrei. 🐦
URL:https://nabu-salzlandkreis.de/veranstaltung/stunde-der-wintervoegel/
LOCATION:Nachtigallenoase\, Chauseestr. 39\, Schönebeck\, 39218\, Germany
END:VEVENT
BEGIN:VEVENT
DTSTART;TZID=Europe/Berlin:20250511T100000
DTEND;TZID=Europe/Berlin:20250511T110000
DTSTAMP:20260421T184821
CREATED:20250507T082247Z
LAST-MODIFIED:20250507T082247Z
UID:760-1746957600-1746961200@nabu-salzlandkreis.de
SUMMARY:Stunde der Gartenvögel
DESCRIPTION:Am Sonntag\, den 11. Mai 2025\, möchten wir vom NABU Salzlandkreis gemeinsam mit Euch an der bundesweiten Aktion „Stunde der Gartenvögel“ teilnehmen. Dafür treffen wir uns um 10 Uhr in unserer Nachtigallenoase in Schönebeck – einem besonderen Ort für Naturbeobachtungen mitten in der Stadt. \nZusammen mit dem Ornithologen Michael Wunschik zählen und bestimmen wir die Vogelarten\, die sich in diesem geschützten Lebensraum aufhalten. Dabei lernt Ihr nicht nur unsere heimischen Gartenvögel besser kennen\, sondern unterstützt auch ein wichtiges Bürgerforschungsprojekt zum Schutz der Artenvielfalt. \nDie „Stunde der Gartenvögel“ ist die größte Vogelzählung Deutschlands. Jedes Jahr ruft der NABU Menschen in ganz Deutschland dazu auf\, eine Stunde lang die Vögel in ihrer Umgebung zu zählen – sei es im eigenen Garten\, im Park oder auf einem Naturgrundstück wie unserer Oase. Die gesammelten Daten helfen dabei\, Veränderungen in den Beständen zu erkennen und den Vogelschutz gezielt voranzubringen. \nEgal ob Ihr Profis oder Neulinge seid – jede Beobachtung zählt!Kommt einfach vorbei\, bringt gern ein Fernglas oder ein Bestimmungsbuch mit\, und entdeckt mit uns die gefiederten Bewohner unserer Region. \nWir freuen uns auf einen spannenden Vormittag mit Euch in der Natur!
URL:https://nabu-salzlandkreis.de/veranstaltung/stunde-der-gartenvoegel/
LOCATION:Nachtigallenoase\, Chauseestr. 39\, Schönebeck\, 39218\, Germany
END:VEVENT
BEGIN:VEVENT
DTSTART;TZID=Europe/Berlin:20250507T160000
DTEND;TZID=Europe/Berlin:20250507T200000
DTSTAMP:20260421T184821
CREATED:20250407T095416Z
LAST-MODIFIED:20250430T141406Z
UID:743-1746633600-1746648000@nabu-salzlandkreis.de
SUMMARY:Ornithologische Abendexkursion im Colbitzer Lindenwald
DESCRIPTION:Zur Vernetzung der NABU-Gruppen hat uns derer NABU Magdeburg am Mittwoch\, den 7. Mai 2025 herzlich zu einer ornithologischen Abendexkursion in den Colbitzer Lindenwald eingeladen. Start ist um 16 Uhr – gemeinsam entdecken wir die vielfältige Vogelwelt des Lindenwaldes in den Abendstunden. \nIm Anschluss sind alle Teilnehmenden zu einem gemütlichen Grillabend auf dem Museumshof in Colbitz bei Herbert Bilang eingeladen\, einem langjährigen Mitglied des NABU Magdeburg und passioniertem Eulen-Fachexperten. Neben dem persönlichen Austausch und geselligem Beisammensein gibt es die Möglichkeit\, sich zu vernetzen und mehr über aktuelle Projekte zu erfahren – unter anderem stellt der magdeburger NABU den Brutmonitor vor\, ein Bürgerforschungsprojekt zur systematischen Erfassung der Brutvögel in Deutschland: www.brutmonitor.de \nTreffpunkt für die Exkursion:\nRabensohl 1\, an der Waldgaststätte „Rabensohl“ – ein einzeln stehendes Gebäude am Waldrand. \nFahrgemeinschaften:\nAb 15 Uhr starten Fahrgemeinschaften am Naturkundemuseum in Magdeburg. Wer mitfahren oder selbst fahren kann\, gibt das bitte bei der Anmeldung an. \nWichtig für Teilnehmende aus dem Salzlandkreis:\nFür eine bessere Planung von Verpflegung und Anreise bitten wir um Rückmeldung zur Teilnahme bis zum 30. April 2025 an den NABU Salzlandkreis (per Mail oder Kontaktformular). \nWir freuen uns auf spannende Beobachtungen\, gute Gespräche und einen inspirierenden Abend im Grünen!
URL:https://nabu-salzlandkreis.de/veranstaltung/ornithologische-abendexkursion-im-colbitzer-lindenwald/
LOCATION:Rabensol Colbitz\, Rabensol\, Colbitz\, 39326\, Germany
END:VEVENT
BEGIN:VEVENT
DTSTART;TZID=Europe/Berlin:20250503T093000
DTEND;TZID=Europe/Berlin:20250503T120000
DTSTAMP:20260421T184821
CREATED:20250408T072050Z
LAST-MODIFIED:20250408T072121Z
UID:755-1746264600-1746273600@nabu-salzlandkreis.de
SUMMARY:Nachtigallenoase - Führung und Arbeitseinsatz
DESCRIPTION:
URL:https://nabu-salzlandkreis.de/veranstaltung/fuehrung-und-arbeitseinsatz-2/
LOCATION:Nachtigallenoase\, Chauseestr. 39\, Schönebeck\, 39218\, Germany
END:VEVENT
BEGIN:VEVENT
DTSTART;TZID=Europe/Berlin:20250411T190000
DTEND;TZID=Europe/Berlin:20250411T210000
DTSTAMP:20260421T184821
CREATED:20250312T135036Z
LAST-MODIFIED:20250402T203041Z
UID:715-1744398000-1744405200@nabu-salzlandkreis.de
SUMMARY:Vogelstimmenwanderung Schönebeck
DESCRIPTION:Wir laden euch herzlich zu unserer diesjährigen Vogelstimmenwanderung ein! Gemeinsam mit dem Ornithologen Michael Wunschik wollen wir eintauchen in die faszinierende Klangwelt unserer heimischen Vögel – und das mitten im abendlichen Kurpark von Schönebeck. \nOb Anfänger*in oder erfahrener Naturfreund – alle sind willkommen\, ganz egal ob NABU-Mitglied oder nicht. Die Führung ist für alle Altersgruppen geeignet\, also bringt gern auch eure Familie oder Freunde mit! \nLasst euch zeigen\, wie Amsel\, Rotkehlchen & Co. klingen – und erfahrt Spannendes über ihr Verhalten\, ihre Rufe und ihre Lebensweise. Michael Wunschik wird uns mit seinem Wissen durch den Abend begleiten und sicher den ein oder anderen Aha-Moment bereithalten. \nEine Anmeldung ist nicht notwendig. Kommt einfach vorbei und seid dabei – wir freuen uns auf euch!
URL:https://nabu-salzlandkreis.de/veranstaltung/vogelstimmenwanderung-schoenebeck/
LOCATION:Kurpark Schönebeck\, Kurpark\, Schönebeck\, 39218\, Germany
ATTACH;FMTTYPE=image/jpeg:https://nabu-salzlandkreis.de/wp-content/uploads/2025/03/441269453_962540862019764_8332601523056741137_n.jpeg
END:VEVENT
BEGIN:VEVENT
DTSTART;TZID=Europe/Berlin:20250405T100000
DTEND;TZID=Europe/Berlin:20250405T120000
DTSTAMP:20260421T184821
CREATED:20250312T134150Z
LAST-MODIFIED:20250402T200231Z
UID:713-1743847200-1743854400@nabu-salzlandkreis.de
SUMMARY:Führung und Arbeitseinsatz
DESCRIPTION:Frühlingserwachen in der Nachtigallenoase – Einladung zum Mitmachen am 5. April \nDer NABU Salzlandkreis e.V. lädt alle Naturfreunde herzlich ein zur ersten offenen Freiluftveranstaltung des Jahres:Am Samstag\, den 05. April 2025\, öffnet die Nachtigallenoase in Schönebeck ihre Tore für eine Führung und einen anschließenden gemeinsamen Arbeitseinsatz. \nAb 10:00 Uhr führen wir durch das Gelände und stellen die beeindruckenden Ergebnisse der Kooperation mit der Pestalozzischule Schönebeck vor. Die Schülerinnen und Schüler haben in den letzten Wochen tatkräftig mit angepackt und das Projekt maßgeblich mitgestaltet. \nNach der Führung sind alle Besucherinnen und Besucher eingeladen\, selbst mit Hand anzulegen. Ob Wegebau\, Pflegeeinsätze oder das Anlegen von Lebensräumen – es gibt viele Möglichkeiten\, sich einzubringen. Ergänzend gibt es Beratung zu Themen wie Mikroökosystemen im Garten oder dem aktuellen Frühlingserwachen in der Region. \nMitbringen: wetterfeste Kleidung\, feste Schuhe\, Arbeitshandschuhe \nDie Wettervorhersage verspricht Sonnenschein – beste Voraussetzungen für einen gelungenen Start in die NABU-Freiluftsaison 2025. Kommt vorbei und macht mit!
URL:https://nabu-salzlandkreis.de/veranstaltung/fuehrung-und-arbeitseinsatz/
LOCATION:Nachtigallenoase\, Chauseestr. 39\, Schönebeck\, 39218\, Germany
END:VEVENT
BEGIN:VEVENT
DTSTART;TZID=Europe/Berlin:20250403T190000
DTEND;TZID=Europe/Berlin:20250403T210000
DTSTAMP:20260421T184821
CREATED:20250312T133759Z
LAST-MODIFIED:20250312T133759Z
UID:709-1743706800-1743714000@nabu-salzlandkreis.de
SUMMARY:Vorstandssitzung April
DESCRIPTION:
URL:https://nabu-salzlandkreis.de/veranstaltung/vorstandssitzung-april/
LOCATION:Wird noch bekannt gegeben\, Germany
END:VEVENT
END:VCALENDAR